BEGIN:VCALENDAR
VERSION:2.0
PRODID:-//Cygalle Dias Public Relations Agency - ECPv6.15.17.1//NONSGML v1.0//EN
CALSCALE:GREGORIAN
METHOD:PUBLISH
X-WR-CALNAME:Cygalle Dias Public Relations Agency
X-ORIGINAL-URL:https://www.cygallepr.com
X-WR-CALDESC:Events for Cygalle Dias Public Relations Agency
REFRESH-INTERVAL;VALUE=DURATION:PT1H
X-Robots-Tag:noindex
X-PUBLISHED-TTL:PT1H
BEGIN:VTIMEZONE
TZID:UTC
BEGIN:STANDARD
TZOFFSETFROM:+0000
TZOFFSETTO:+0000
TZNAME:UTC
DTSTART:20240101T000000
END:STANDARD
END:VTIMEZONE
BEGIN:VEVENT
DTSTART;VALUE=DATE:20250911
DTEND;VALUE=DATE:20250917
DTSTAMP:20260425T035123
CREATED:20250806T002527Z
LAST-MODIFIED:20250806T002527Z
UID:1182-1757548800-1758067199@www.cygallepr.com
SUMMARY:New York Fashion Week Spring/Summer 2026
DESCRIPTION:The most anticipated fashion event of the year\, offering exceptional visibility and influencer connections for fashion brands.
URL:https://www.cygallepr.com/event/new-york-fashion-week-spring-summer-2026/
LOCATION:New York City\, NY
END:VEVENT
END:VCALENDAR