BEGIN:VCALENDAR
VERSION:2.0
PRODID:-//Cygalle Dias Public Relations Agency - ECPv6.15.17.1//NONSGML v1.0//EN
CALSCALE:GREGORIAN
METHOD:PUBLISH
X-WR-CALNAME:Cygalle Dias Public Relations Agency
X-ORIGINAL-URL:https://www.cygallepr.com
X-WR-CALDESC:Events for Cygalle Dias Public Relations Agency
REFRESH-INTERVAL;VALUE=DURATION:PT1H
X-Robots-Tag:noindex
X-PUBLISHED-TTL:PT1H
BEGIN:VTIMEZONE
TZID:UTC
BEGIN:STANDARD
TZOFFSETFROM:+0000
TZOFFSETTO:+0000
TZNAME:UTC
DTSTART:20240101T000000
END:STANDARD
END:VTIMEZONE
BEGIN:VEVENT
DTSTART;VALUE=DATE:20250918
DTEND;VALUE=DATE:20250923
DTSTAMP:20260425T035125
CREATED:20250806T002802Z
LAST-MODIFIED:20250806T002802Z
UID:1186-1758153600-1758585599@www.cygallepr.com
SUMMARY:London Fashion Week Spring/Summer 2026
DESCRIPTION:This event will showcase the latest collections from both established designers and emerging talents\, highlighting London’s position as a global fashion hub.
URL:https://www.cygallepr.com/event/london-fashion-week-spring-summer-2026/
LOCATION:London\, England
END:VEVENT
END:VCALENDAR