BEGIN:VCALENDAR
VERSION:2.0
PRODID:-//Cygalle Dias Public Relations Agency - ECPv6.15.17.1//NONSGML v1.0//EN
CALSCALE:GREGORIAN
METHOD:PUBLISH
X-WR-CALNAME:Cygalle Dias Public Relations Agency
X-ORIGINAL-URL:https://www.cygallepr.com
X-WR-CALDESC:Events for Cygalle Dias Public Relations Agency
REFRESH-INTERVAL;VALUE=DURATION:PT1H
X-Robots-Tag:noindex
X-PUBLISHED-TTL:PT1H
BEGIN:VTIMEZONE
TZID:UTC
BEGIN:STANDARD
TZOFFSETFROM:+0000
TZOFFSETTO:+0000
TZNAME:UTC
DTSTART:20240101T000000
END:STANDARD
END:VTIMEZONE
BEGIN:VEVENT
DTSTART;VALUE=DATE:20250923
DTEND;VALUE=DATE:20250930
DTSTAMP:20260425T035126
CREATED:20250806T002959Z
LAST-MODIFIED:20250806T002959Z
UID:1190-1758585600-1759190399@www.cygallepr.com
SUMMARY:Milan Fashion Week Spring/Summer 2026
DESCRIPTION:This event will showcase the latest collections from Italy’s premier design houses and international labels.
URL:https://www.cygallepr.com/event/milan-fashion-week-spring-summer-2026/
LOCATION:Milan\, Italy
END:VEVENT
END:VCALENDAR