BEGIN:VCALENDAR
VERSION:2.0
PRODID:-//Cygalle Dias Public Relations Agency - ECPv6.15.17.1//NONSGML v1.0//EN
CALSCALE:GREGORIAN
METHOD:PUBLISH
X-ORIGINAL-URL:https://www.cygallepr.com
X-WR-CALDESC:Events for Cygalle Dias Public Relations Agency
REFRESH-INTERVAL;VALUE=DURATION:PT1H
X-Robots-Tag:noindex
X-PUBLISHED-TTL:PT1H
BEGIN:VTIMEZONE
TZID:UTC
BEGIN:STANDARD
TZOFFSETFROM:+0000
TZOFFSETTO:+0000
TZNAME:UTC
DTSTART:20240101T000000
END:STANDARD
END:VTIMEZONE
BEGIN:VEVENT
DTSTART;VALUE=DATE:20251014
DTEND;VALUE=DATE:20251016
DTSTAMP:20260425T021841
CREATED:20250806T003934Z
LAST-MODIFIED:20250806T003934Z
UID:1199-1760400000-1760572799@www.cygallepr.com
SUMMARY:CDLM/Spencer Pruitt - Distinct Investor Event
DESCRIPTION:The event is designed as a high-touch\, curated experience for a select group of accredited investors\, family offices\, and private equity groups.
URL:https://www.cygallepr.com/event/cdlm-spencer-pruitt-distinct-investor-event/
LOCATION:West Palm Beach\, FL
END:VEVENT
END:VCALENDAR