BEGIN:VCALENDAR
VERSION:2.0
PRODID:-//Cygalle Dias Public Relations Agency - ECPv6.15.17.1//NONSGML v1.0//EN
CALSCALE:GREGORIAN
METHOD:PUBLISH
X-ORIGINAL-URL:https://www.cygallepr.com
X-WR-CALDESC:Events for Cygalle Dias Public Relations Agency
REFRESH-INTERVAL;VALUE=DURATION:PT1H
X-Robots-Tag:noindex
X-PUBLISHED-TTL:PT1H
BEGIN:VTIMEZONE
TZID:UTC
BEGIN:STANDARD
TZOFFSETFROM:+0000
TZOFFSETTO:+0000
TZNAME:UTC
DTSTART:20240101T000000
END:STANDARD
END:VTIMEZONE
BEGIN:VEVENT
DTSTART;VALUE=DATE:20251022
DTEND;VALUE=DATE:20251026
DTSTAMP:20260425T020810
CREATED:20250806T004117Z
LAST-MODIFIED:20250806T004117Z
UID:1203-1761091200-1761436799@www.cygallepr.com
SUMMARY:Gran Canaria Swim Week by Moda Cálida
DESCRIPTION:Europe’s premier professional swimwear fashion event\, organized by the Cabildo de Gran Canaria.
URL:https://www.cygallepr.com/event/gran-canaria-swim-week-by-moda-calida/
LOCATION:Expomeloneras\, Maspalomas\, Gran Canaria
END:VEVENT
END:VCALENDAR