BEGIN:VCALENDAR
VERSION:2.0
PRODID:-//Cygalle Dias Public Relations Agency - ECPv6.15.17.1//NONSGML v1.0//EN
CALSCALE:GREGORIAN
METHOD:PUBLISH
X-WR-CALNAME:Cygalle Dias Public Relations Agency
X-ORIGINAL-URL:https://www.cygallepr.com
X-WR-CALDESC:Events for Cygalle Dias Public Relations Agency
REFRESH-INTERVAL;VALUE=DURATION:PT1H
X-Robots-Tag:noindex
X-PUBLISHED-TTL:PT1H
BEGIN:VTIMEZONE
TZID:UTC
BEGIN:STANDARD
TZOFFSETFROM:+0000
TZOFFSETTO:+0000
TZNAME:UTC
DTSTART:20240101T000000
END:STANDARD
END:VTIMEZONE
BEGIN:VEVENT
DTSTART;VALUE=DATE:20250827
DTEND;VALUE=DATE:20250830
DTSTAMP:20260425T103706
CREATED:20250806T001833Z
LAST-MODIFIED:20250815T005215Z
UID:1180-1756252800-1756511999@www.cygallepr.com
SUMMARY:CDLM/CTF - Legacy Hampton Beach Elegance
DESCRIPTION:An Elegant Affair with Legacy Families: Chef\, Arts and Music Inspired
URL:https://www.cygallepr.com/event/cdlm-ctf-legacy-hampton-beach-elegance/
END:VEVENT
END:VCALENDAR