BEGIN:VCALENDAR
VERSION:2.0
PRODID:-//Cygalle Dias Public Relations Agency - ECPv6.15.17.1//NONSGML v1.0//EN
CALSCALE:GREGORIAN
METHOD:PUBLISH
X-WR-CALNAME:Cygalle Dias Public Relations Agency
X-ORIGINAL-URL:https://www.cygallepr.com
X-WR-CALDESC:Events for Cygalle Dias Public Relations Agency
REFRESH-INTERVAL;VALUE=DURATION:PT1H
X-Robots-Tag:noindex
X-PUBLISHED-TTL:PT1H
BEGIN:VTIMEZONE
TZID:UTC
BEGIN:STANDARD
TZOFFSETFROM:+0000
TZOFFSETTO:+0000
TZNAME:UTC
DTSTART:20250101T000000
END:STANDARD
END:VTIMEZONE
BEGIN:VEVENT
DTSTART;VALUE=DATE:20260315
DTEND;VALUE=DATE:20260316
DTSTAMP:20260425T113130
CREATED:20250806T005100Z
LAST-MODIFIED:20250806T005100Z
UID:1224-1773532800-1773619199@www.cygallepr.com
SUMMARY:The 98th Academy Awards - The Oscars 2026
DESCRIPTION:An annual ceremony that honors outstanding achievements in film\, recognizing excellence in various categories such as acting\,\ndirecting\, writing\, and producing.
URL:https://www.cygallepr.com/event/the-98th-academy-awards-the-oscars-2026/
LOCATION:Dolby Theatre\, Hollywood\, CA
END:VEVENT
BEGIN:VEVENT
DTSTART;VALUE=DATE:20260501
DTEND;VALUE=DATE:20260502
DTSTAMP:20260425T113130
CREATED:20250806T005254Z
LAST-MODIFIED:20250806T005254Z
UID:1228-1777593600-1777679999@www.cygallepr.com
SUMMARY:Cannes Film Festival 2026
DESCRIPTION:The world’s most prestigious film festival\, showcasing groundbreaking films and celebrating cinematic artistry on an international\nstage. \n  \nExact date TBD
URL:https://www.cygallepr.com/event/cannes-film-festival-2026/
LOCATION:Cannes\, France
END:VEVENT
END:VCALENDAR